Package: gtrellis Version: 1.43.0 Command: /home/biocbuild/bbs-3.23-bioc/R/bin/R CMD build --keep-empty-dirs --no-resave-data gtrellis StartedAt: 2025-11-14 17:59:28 -0500 (Fri, 14 Nov 2025) EndedAt: 2025-11-14 18:01:55 -0500 (Fri, 14 Nov 2025) EllapsedTime: 146.2 seconds RetCode: 0 Status: OK PackageFile: gtrellis_1.43.0.tar.gz PackageFileSize: 2.738 MiB