Package: gtrellis Version: 1.43.0 Command: /Library/Frameworks/R.framework/Resources/bin/R CMD INSTALL gtrellis StartedAt: 2025-11-14 15:11:12 -0500 (Fri, 14 Nov 2025) EndedAt: 2025-11-14 15:11:15 -0500 (Fri, 14 Nov 2025) EllapsedTime: 3.7 seconds RetCode: 0 Status: OK