Package: gtrellis Version: 1.43.0 Command: /Library/Frameworks/R.framework/Resources/bin/R CMD build --keep-empty-dirs --no-resave-data gtrellis StartedAt: 2025-11-14 16:35:15 -0500 (Fri, 14 Nov 2025) EndedAt: 2025-11-14 16:36:06 -0500 (Fri, 14 Nov 2025) EllapsedTime: 51.6 seconds RetCode: 0 Status: OK PackageFile: gtrellis_1.43.0.tar.gz PackageFileSize: 4.008 MiB