Package: gtrellis Version: 1.43.0 Command: rm -rf gtrellis.buildbin-libdir && mkdir gtrellis.buildbin-libdir && /Users/biocbuild/BBS/utils/build-universal.sh gtrellis_1.43.0.tar.gz /Library/Frameworks/R.framework/Resources/bin/R gtrellis.buildbin-libdir StartedAt: 2025-11-14 23:35:43 -0500 (Fri, 14 Nov 2025) EndedAt: 2025-11-14 23:35:49 -0500 (Fri, 14 Nov 2025) EllapsedTime: 6.1 seconds RetCode: 0 Status: OK PackageFile: gtrellis_1.43.0.tgz PackageFileSize: 4.078 MiB