Package: gtrellis Version: 1.43.0 Maintainer: Zuguang Gu MaintainerEmail: z.gu at dkfz.de git_url: https://git.bioconductor.org/packages/gtrellis git_branch: devel git_last_commit: ed8df37 git_last_commit_date: 2025-10-29 10:24:53 -0500 (Wed, 29 Oct 2025)