Package: gsean Version: 1.31.0 Command: /Library/Frameworks/R.framework/Resources/bin/R CMD INSTALL gsean StartedAt: 2025-11-13 15:09:58 -0500 (Thu, 13 Nov 2025) EndedAt: 2025-11-13 15:10:07 -0500 (Thu, 13 Nov 2025) EllapsedTime: 9.5 seconds RetCode: 0 Status: OK