Package: gsean Version: 1.31.0 Command: /Library/Frameworks/R.framework/Resources/bin/R CMD build --keep-empty-dirs --no-resave-data gsean StartedAt: 2025-11-13 16:38:02 -0500 (Thu, 13 Nov 2025) EndedAt: 2025-11-13 16:38:31 -0500 (Thu, 13 Nov 2025) EllapsedTime: 28.3 seconds RetCode: 0 Status: OK PackageFile: gsean_1.31.0.tar.gz PackageFileSize: 1.535 MiB