Package: gsean Version: 1.31.0 Command: rm -rf gsean.buildbin-libdir && mkdir gsean.buildbin-libdir && /Users/biocbuild/BBS/utils/build-universal.sh gsean_1.31.0.tar.gz /Library/Frameworks/R.framework/Resources/bin/R gsean.buildbin-libdir StartedAt: 2025-11-13 23:40:37 -0500 (Thu, 13 Nov 2025) EndedAt: 2025-11-13 23:40:50 -0500 (Thu, 13 Nov 2025) EllapsedTime: 13.3 seconds RetCode: 0 Status: OK PackageFile: gsean_1.31.0.tgz PackageFileSize: 1.56 MiB