Package: gsean Version: 1.31.0 Maintainer: Dongmin Jung MaintainerEmail: dmdmjung at gmail.com git_url: https://git.bioconductor.org/packages/gsean git_branch: devel git_last_commit: f3f93bb git_last_commit_date: 2025-10-29 10:43:04 -0500 (Wed, 29 Oct 2025)