Package: gscreend Version: 1.25.0 Command: /Library/Frameworks/R.framework/Resources/bin/R CMD build --keep-empty-dirs --no-resave-data gscreend StartedAt: 2025-11-13 16:37:34 -0500 (Thu, 13 Nov 2025) EndedAt: 2025-11-13 16:38:22 -0500 (Thu, 13 Nov 2025) EllapsedTime: 47.5 seconds RetCode: 0 Status: OK PackageFile: gscreend_1.25.0.tar.gz PackageFileSize: 3.114 MiB