Package: groHMM Version: 1.45.0 Maintainer: Tulip Nandu MaintainerEmail: tulip.nandu at utsouthwestern.edu git_url: https://git.bioconductor.org/packages/groHMM git_branch: devel git_last_commit: a2e7235 git_last_commit_date: 2025-10-29 10:22:30 -0500 (Wed, 29 Oct 2025)