Package: graphite Version: 1.57.0 Command: /home/biocbuild/bbs-3.23-bioc/R/bin/R CMD build --keep-empty-dirs --no-resave-data graphite StartedAt: 2025-11-13 17:57:25 -0500 (Thu, 13 Nov 2025) EndedAt: 2025-11-13 17:58:22 -0500 (Thu, 13 Nov 2025) EllapsedTime: 57.0 seconds RetCode: 0 Status: OK PackageFile: graphite_1.57.0.tar.gz PackageFileSize: 774 KiB