Package: graphite Version: 1.57.0 Command: rm -rf graphite.buildbin-libdir && mkdir graphite.buildbin-libdir && /Users/biocbuild/BBS/utils/build-universal.sh graphite_1.57.0.tar.gz /Library/Frameworks/R.framework/Resources/bin/R graphite.buildbin-libdir StartedAt: 2025-11-13 23:40:28 -0500 (Thu, 13 Nov 2025) EndedAt: 2025-11-13 23:40:35 -0500 (Thu, 13 Nov 2025) EllapsedTime: 7.2 seconds RetCode: 0 Status: OK PackageFile: graphite_1.57.0.tgz PackageFileSize: 916 KiB