Package: graphite Version: 1.57.0 Maintainer: Gabriele Sales MaintainerEmail: gabriele.sales at unipd.it git_url: https://git.bioconductor.org/packages/graphite git_branch: devel git_last_commit: 0b372f1 git_last_commit_date: 2025-10-29 10:08:39 -0500 (Wed, 29 Oct 2025)