Package: graph Version: 1.89.0 Command: /home/biocbuild/bbs-3.23-bioc/R/bin/R CMD INSTALL graph StartedAt: 2025-11-13 15:11:43 -0500 (Thu, 13 Nov 2025) EndedAt: 2025-11-13 15:11:55 -0500 (Thu, 13 Nov 2025) EllapsedTime: 12.0 seconds RetCode: 0 Status: OK