Package: graph Version: 1.89.0 Command: /Library/Frameworks/R.framework/Resources/bin/R CMD build --keep-empty-dirs --no-resave-data graph StartedAt: 2025-11-13 16:36:58 -0500 (Thu, 13 Nov 2025) EndedAt: 2025-11-13 16:37:11 -0500 (Thu, 13 Nov 2025) EllapsedTime: 13.2 seconds RetCode: 0 Status: OK PackageFile: graph_1.89.0.tar.gz PackageFileSize: 1.435 MiB