Package: graph Version: 1.89.0 Command: rm -rf graph.buildbin-libdir && mkdir graph.buildbin-libdir && /Users/biocbuild/BBS/utils/build-universal.sh graph_1.89.0.tar.gz /Library/Frameworks/R.framework/Resources/bin/R graph.buildbin-libdir StartedAt: 2025-11-13 23:40:24 -0500 (Thu, 13 Nov 2025) EndedAt: 2025-11-13 23:40:32 -0500 (Thu, 13 Nov 2025) EllapsedTime: 7.2 seconds RetCode: 0 Status: OK PackageFile: graph_1.89.0.tgz PackageFileSize: 2.106 MiB