Package: graper Version: 1.27.0 Command: /home/biocbuild/bbs-3.23-bioc/R/bin/R CMD build --keep-empty-dirs --no-resave-data graper StartedAt: 2025-11-11 17:59:39 -0500 (Tue, 11 Nov 2025) EndedAt: 2025-11-11 18:00:40 -0500 (Tue, 11 Nov 2025) EllapsedTime: 61.0 seconds RetCode: 0 Status: OK PackageFile: graper_1.27.0.tar.gz PackageFileSize: 986.1 KiB