Package: graper Version: 1.27.0 Command: /Library/Frameworks/R.framework/Resources/bin/R CMD INSTALL graper StartedAt: 2025-11-12 15:19:27 -0500 (Wed, 12 Nov 2025) EndedAt: 2025-11-12 15:19:35 -0500 (Wed, 12 Nov 2025) EllapsedTime: 8.8 seconds RetCode: 0 Status: OK