Package: graper Version: 1.27.0 Command: /Library/Frameworks/R.framework/Resources/bin/R CMD build --keep-empty-dirs --no-resave-data graper StartedAt: 2025-11-12 16:25:11 -0500 (Wed, 12 Nov 2025) EndedAt: 2025-11-12 16:25:28 -0500 (Wed, 12 Nov 2025) EllapsedTime: 17.2 seconds RetCode: 0 Status: OK PackageFile: graper_1.27.0.tar.gz PackageFileSize: 929.7 KiB