Package: graper Version: 1.27.0 Command: rm -rf graper.buildbin-libdir && mkdir graper.buildbin-libdir && /Users/biocbuild/BBS/utils/build-universal.sh graper_1.27.0.tar.gz /Library/Frameworks/R.framework/Resources/bin/R graper.buildbin-libdir StartedAt: 2025-11-12 20:59:26 -0500 (Wed, 12 Nov 2025) EndedAt: 2025-11-12 20:59:39 -0500 (Wed, 12 Nov 2025) EllapsedTime: 13.3 seconds RetCode: 0 Status: OK PackageFile: graper_1.27.0.tgz PackageFileSize: 1.113 MiB