Package: graper Version: 1.27.0 Maintainer: Britta Velten MaintainerEmail: britta.velten at gmail.com git_url: https://git.bioconductor.org/packages/graper git_branch: devel git_last_commit: 95474d7 git_last_commit_date: 2025-10-29 10:49:21 -0500 (Wed, 29 Oct 2025)