Package: granulator Version: 1.19.0 Command: /home/biocbuild/bbs-3.23-bioc/R/bin/R CMD INSTALL granulator StartedAt: 2025-11-23 15:11:24 -0500 (Sun, 23 Nov 2025) EndedAt: 2025-11-23 15:11:37 -0500 (Sun, 23 Nov 2025) EllapsedTime: 13.0 seconds RetCode: 0 Status: OK