Package: gpls Version: 1.83.0 Command: /home/biocbuild/bbs-3.23-bioc/R/bin/R CMD INSTALL gpls StartedAt: 2025-11-13 15:02:22 -0500 (Thu, 13 Nov 2025) EndedAt: 2025-11-13 15:02:25 -0500 (Thu, 13 Nov 2025) EllapsedTime: 3.4 seconds RetCode: 0 Status: OK