Package: gpls Version: 1.83.0 Command: /home/biocbuild/bbs-3.23-bioc/R/bin/R CMD check --install=check:gpls.install-out.txt --library=/home/biocbuild/bbs-3.23-bioc/R/site-library --timings gpls_1.83.0.tar.gz StartedAt: 2025-11-15 00:09:24 -0500 (Sat, 15 Nov 2025) EndedAt: 2025-11-15 00:09:48 -0500 (Sat, 15 Nov 2025) EllapsedTime: 24.0 seconds RetCode: 0 Status: WARNINGS CheckDir: gpls.Rcheck Warnings: 1