Package: gpls Version: 1.83.0 Command: /Library/Frameworks/R.framework/Resources/bin/R CMD INSTALL gpls StartedAt: 2025-11-12 15:16:08 -0500 (Wed, 12 Nov 2025) EndedAt: 2025-11-12 15:16:10 -0500 (Wed, 12 Nov 2025) EllapsedTime: 1.8 seconds RetCode: 0 Status: OK