Package: gpls Version: 1.83.0 Command: rm -rf gpls.buildbin-libdir && mkdir gpls.buildbin-libdir && /Users/biocbuild/BBS/utils/build-universal.sh gpls_1.83.0.tar.gz /Library/Frameworks/R.framework/Resources/bin/R gpls.buildbin-libdir StartedAt: 2025-11-12 20:59:23 -0500 (Wed, 12 Nov 2025) EndedAt: 2025-11-12 20:59:25 -0500 (Wed, 12 Nov 2025) EllapsedTime: 2.0 seconds RetCode: 0 Status: OK PackageFile: gpls_1.83.0.tgz PackageFileSize: 296.2 KiB