Package: goseq Version: 1.63.0 Command: /home/biocbuild/bbs-3.23-bioc/R/bin/R CMD build --keep-empty-dirs --no-resave-data goseq StartedAt: 2025-11-13 17:54:27 -0500 (Thu, 13 Nov 2025) EndedAt: 2025-11-13 17:57:57 -0500 (Thu, 13 Nov 2025) EllapsedTime: 210.1 seconds RetCode: 0 Status: OK PackageFile: goseq_1.63.0.tar.gz PackageFileSize: 1.834 MiB