Package: goseq Version: 1.63.0 Command: /Library/Frameworks/R.framework/Resources/bin/R CMD build --keep-empty-dirs --no-resave-data goseq StartedAt: 2025-11-13 16:35:37 -0500 (Thu, 13 Nov 2025) EndedAt: 2025-11-13 16:37:20 -0500 (Thu, 13 Nov 2025) EllapsedTime: 103.1 seconds RetCode: 0 Status: OK PackageFile: goseq_1.63.0.tar.gz PackageFileSize: 1.834 MiB