Package: goseq Version: 1.63.0 Command: rm -rf goseq.buildbin-libdir && mkdir goseq.buildbin-libdir && /Users/biocbuild/BBS/utils/build-universal.sh goseq_1.63.0.tar.gz /Library/Frameworks/R.framework/Resources/bin/R goseq.buildbin-libdir StartedAt: 2025-11-13 23:40:16 -0500 (Thu, 13 Nov 2025) EndedAt: 2025-11-13 23:40:35 -0500 (Thu, 13 Nov 2025) EllapsedTime: 18.5 seconds RetCode: 0 Status: OK PackageFile: goseq_1.63.0.tgz PackageFileSize: 1.882 MiB