Package: goseq Version: 1.63.0 Maintainer: Federico Marini MaintainerEmail: marinif at uni-mainz.de git_url: https://git.bioconductor.org/packages/goseq git_branch: devel git_last_commit: 9833b83 git_last_commit_date: 2025-10-29 10:04:46 -0500 (Wed, 29 Oct 2025)