Package: goatea Version: 1.1.3 Command: /home/biocbuild/bbs-3.23-bioc/R/bin/R CMD INSTALL goatea StartedAt: 2025-11-14 15:47:36 -0500 (Fri, 14 Nov 2025) EndedAt: 2025-11-14 15:48:04 -0500 (Fri, 14 Nov 2025) EllapsedTime: 27.4 seconds RetCode: 0 Status: OK