Package: goatea Version: 1.1.3 Command: /home/biocbuild/bbs-3.23-bioc/R/bin/R CMD build --keep-empty-dirs --no-resave-data goatea StartedAt: 2025-11-14 17:53:49 -0500 (Fri, 14 Nov 2025) EndedAt: 2025-11-14 17:55:54 -0500 (Fri, 14 Nov 2025) EllapsedTime: 125.1 seconds RetCode: 1 Status: ERROR PackageFile: None PackageFileSize: NA