Package: goatea Version: 1.1.3 Command: /Library/Frameworks/R.framework/Resources/bin/R CMD INSTALL goatea StartedAt: 2025-11-14 15:24:47 -0500 (Fri, 14 Nov 2025) EndedAt: 2025-11-14 15:24:58 -0500 (Fri, 14 Nov 2025) EllapsedTime: 11.3 seconds RetCode: 0 Status: OK