Package: goatea Version: 1.1.3 Command: /Library/Frameworks/R.framework/Resources/bin/R CMD build --keep-empty-dirs --no-resave-data goatea StartedAt: 2025-11-14 16:31:51 -0500 (Fri, 14 Nov 2025) EndedAt: 2025-11-14 16:32:44 -0500 (Fri, 14 Nov 2025) EllapsedTime: 53.6 seconds RetCode: 1 Status: ERROR PackageFile: None PackageFileSize: NA