Package: goTools Version: 1.85.0 Command: /home/biocbuild/bbs-3.23-bioc/R/bin/R CMD build --keep-empty-dirs --no-resave-data goTools StartedAt: 2025-11-13 17:55:12 -0500 (Thu, 13 Nov 2025) EndedAt: 2025-11-13 17:55:31 -0500 (Thu, 13 Nov 2025) EllapsedTime: 19.0 seconds RetCode: 0 Status: OK PackageFile: goTools_1.85.0.tar.gz PackageFileSize: 242.3 KiB