Package: goTools Version: 1.85.0 Command: /Library/Frameworks/R.framework/Resources/bin/R CMD INSTALL goTools StartedAt: 2025-11-13 15:26:41 -0500 (Thu, 13 Nov 2025) EndedAt: 2025-11-13 15:26:46 -0500 (Thu, 13 Nov 2025) EllapsedTime: 5.3 seconds RetCode: 0 Status: OK