Package: goTools Version: 1.85.0 Command: rm -rf goTools.buildbin-libdir && mkdir goTools.buildbin-libdir && /Users/biocbuild/BBS/utils/build-universal.sh goTools_1.85.0.tar.gz /Library/Frameworks/R.framework/Resources/bin/R goTools.buildbin-libdir StartedAt: 2025-11-13 23:40:18 -0500 (Thu, 13 Nov 2025) EndedAt: 2025-11-13 23:40:26 -0500 (Thu, 13 Nov 2025) EllapsedTime: 7.2 seconds RetCode: 0 Status: OK PackageFile: goTools_1.85.0.tgz PackageFileSize: 262.2 KiB