Package: goTools Version: 1.85.0 Maintainer: Agnes Paquet MaintainerEmail: paquetagnes at yahoo.com git_url: https://git.bioconductor.org/packages/goTools git_branch: devel git_last_commit: 99ac810 git_last_commit_date: 2025-10-29 09:54:43 -0500 (Wed, 29 Oct 2025)