Package: goSorensen Version: 1.13.0 Command: /Library/Frameworks/R.framework/Resources/bin/R CMD INSTALL goSorensen StartedAt: 2025-11-14 15:25:12 -0500 (Fri, 14 Nov 2025) EndedAt: 2025-11-14 15:25:18 -0500 (Fri, 14 Nov 2025) EllapsedTime: 6.3 seconds RetCode: 0 Status: OK