Package: goSorensen Version: 1.13.0 Command: /Library/Frameworks/R.framework/Resources/bin/R CMD build --keep-empty-dirs --no-resave-data goSorensen StartedAt: 2025-11-14 16:32:31 -0500 (Fri, 14 Nov 2025) EndedAt: 2025-11-14 16:34:01 -0500 (Fri, 14 Nov 2025) EllapsedTime: 90.0 seconds RetCode: 0 Status: OK PackageFile: goSorensen_1.13.0.tar.gz PackageFileSize: 932.5 KiB