Package: goSorensen Version: 1.13.0 Command: rm -rf goSorensen.buildbin-libdir && mkdir goSorensen.buildbin-libdir && /Users/biocbuild/BBS/utils/build-universal.sh goSorensen_1.13.0.tar.gz /Library/Frameworks/R.framework/Resources/bin/R goSorensen.buildbin-libdir StartedAt: 2025-11-14 23:35:20 -0500 (Fri, 14 Nov 2025) EndedAt: 2025-11-14 23:35:28 -0500 (Fri, 14 Nov 2025) EllapsedTime: 8.2 seconds RetCode: 0 Status: OK PackageFile: goSorensen_1.13.0.tgz PackageFileSize: 1.093 MiB