Package: goSTAG Version: 1.35.0 Maintainer: Brian D. Bennett MaintainerEmail: brian.bennett at nih.gov git_url: https://git.bioconductor.org/packages/goSTAG git_branch: devel git_last_commit: 80ac782 git_last_commit_date: 2025-10-29 10:36:31 -0500 (Wed, 29 Oct 2025)