Package: goProfiles Version: 1.73.0 Command: /home/biocbuild/bbs-3.23-bioc/R/bin/R CMD INSTALL goProfiles StartedAt: 2025-11-13 15:41:28 -0500 (Thu, 13 Nov 2025) EndedAt: 2025-11-13 15:41:42 -0500 (Thu, 13 Nov 2025) EllapsedTime: 14.5 seconds RetCode: 0 Status: OK