Package: goProfiles Version: 1.73.0 Command: /home/biocbuild/bbs-3.23-bioc/R/bin/R CMD build --keep-empty-dirs --no-resave-data goProfiles StartedAt: 2025-11-13 17:54:05 -0500 (Thu, 13 Nov 2025) EndedAt: 2025-11-13 17:54:43 -0500 (Thu, 13 Nov 2025) EllapsedTime: 38.0 seconds RetCode: 0 Status: OK PackageFile: goProfiles_1.73.0.tar.gz PackageFileSize: 288.4 KiB