Package: goProfiles Version: 1.73.0 Command: /Library/Frameworks/R.framework/Resources/bin/R CMD INSTALL goProfiles StartedAt: 2025-11-13 15:26:33 -0500 (Thu, 13 Nov 2025) EndedAt: 2025-11-13 15:26:39 -0500 (Thu, 13 Nov 2025) EllapsedTime: 6.2 seconds RetCode: 0 Status: OK