Package: goProfiles Version: 1.73.0 Command: /Library/Frameworks/R.framework/Resources/bin/R CMD build --keep-empty-dirs --no-resave-data goProfiles StartedAt: 2025-11-13 16:35:26 -0500 (Thu, 13 Nov 2025) EndedAt: 2025-11-13 16:35:42 -0500 (Thu, 13 Nov 2025) EllapsedTime: 16.2 seconds RetCode: 0 Status: OK PackageFile: goProfiles_1.73.0.tar.gz PackageFileSize: 288.5 KiB