Package: goProfiles Version: 1.73.0 Maintainer: Alex Sanchez MaintainerEmail: asanchez at ub.edu git_url: https://git.bioconductor.org/packages/goProfiles git_branch: devel git_last_commit: f39fe7a git_last_commit_date: 2025-10-29 10:00:32 -0500 (Wed, 29 Oct 2025)