Package: gmapR Version: 1.53.0 Command: /home/biocbuild/bbs-3.23-bioc/R/bin/R CMD build --keep-empty-dirs --no-resave-data gmapR StartedAt: 2025-11-14 17:51:58 -0500 (Fri, 14 Nov 2025) EndedAt: 2025-11-14 17:59:12 -0500 (Fri, 14 Nov 2025) EllapsedTime: 434.3 seconds RetCode: 1 Status: ERROR PackageFile: None PackageFileSize: NA