Package: gmapR Version: 1.53.0 Command: /Library/Frameworks/R.framework/Resources/bin/R CMD INSTALL gmapR StartedAt: 2025-11-13 15:22:17 -0500 (Thu, 13 Nov 2025) EndedAt: 2025-11-13 15:22:59 -0500 (Thu, 13 Nov 2025) EllapsedTime: 41.3 seconds RetCode: 1 Status: ERROR